BEGIN:VCALENDAR
VERSION:2.0
PRODID:-//Maker Space Zaragoza - ECPv6.15.20//NONSGML v1.0//EN
CALSCALE:GREGORIAN
METHOD:PUBLISH
X-ORIGINAL-URL:https://zaragozamakerspace.com
X-WR-CALDESC:Eventos para Maker Space Zaragoza
REFRESH-INTERVAL;VALUE=DURATION:PT1H
X-Robots-Tag:noindex
X-PUBLISHED-TTL:PT1H
BEGIN:VTIMEZONE
TZID:Europe/Madrid
BEGIN:DAYLIGHT
TZOFFSETFROM:+0100
TZOFFSETTO:+0200
TZNAME:CEST
DTSTART:20240331T010000
END:DAYLIGHT
BEGIN:STANDARD
TZOFFSETFROM:+0200
TZOFFSETTO:+0100
TZNAME:CET
DTSTART:20241027T010000
END:STANDARD
BEGIN:DAYLIGHT
TZOFFSETFROM:+0100
TZOFFSETTO:+0200
TZNAME:CEST
DTSTART:20250330T010000
END:DAYLIGHT
BEGIN:STANDARD
TZOFFSETFROM:+0200
TZOFFSETTO:+0100
TZNAME:CET
DTSTART:20251026T010000
END:STANDARD
BEGIN:DAYLIGHT
TZOFFSETFROM:+0100
TZOFFSETTO:+0200
TZNAME:CEST
DTSTART:20260329T010000
END:DAYLIGHT
BEGIN:STANDARD
TZOFFSETFROM:+0200
TZOFFSETTO:+0100
TZNAME:CET
DTSTART:20261025T010000
END:STANDARD
END:VTIMEZONE
BEGIN:VEVENT
DTSTART;TZID=Europe/Madrid:20250201T080000
DTEND;TZID=Europe/Madrid:20250201T170000
DTSTAMP:20260420T072953
CREATED:20241202T143047Z
LAST-MODIFIED:20241216T215800Z
UID:12177-1738396800-1738429200@zaragozamakerspace.com
SUMMARY:Taller de ChatGPT - Prompt Engineering
DESCRIPTION:¡Domina el Arte del Prompt Engineering con ChatGPT!\n🤖 ¡Únete a nuestro Taller Especializado sobre Prompt Engineering y usa el poder de la inteligencia artificial! 🤖\nEn un mundo cada vez más conectado y basado en inteligencia artificial\, saber cómo interactuar de manera efectiva con modelos de lenguaje como ChatGPT es una habilidad clave. \nEn este taller\, aprenderás las mejores prácticas de Prompt Engineering\, explorando cómo diseñar instrucciones claras y efectivas para obtener los mejores resultados de esta poderosa herramienta. \n💡 Presentamos: «Prompt Engineering con ChatGPT: Aplicaciones Prácticas y Cotidianas» 💡\n¿Qué aprenderás en este taller? \n\nFundamentos del Prompt Engineering: Qué es y por qué es importante para optimizar las interacciones con modelos de lenguaje.\nDefinición de Objetivos del Prompt: Identifica y formula objetivos claros para que tus prompts generen resultados precisos y útiles.\nPrompts basados en Roleplay: Aprende a diseñar interacciones basadas en roles específicos para casos de storytelling\, y simulaciones interactivas.\nUso de Formatos de Lista y Tablas: Aprende a estructurar datos y generar contenido en formato organizado y profesional.\nPlantillas de Prompt: Accede a plantillas listas para usar en diferentes casos prácticos y personalízalas según tus necesidades.\nExploración de GPTs Preentrenados: Descubre cómo aprovechar GPTs especializados y preentrenados para tareas específicas.\nCreación de Imágenes: Aprende a generar imágenes directamente desde prompts.\nCasos de Uso Prácticos: Desde automatización hasta resolución de problemas\, te mostraremos cómo aplicar lo aprendido en el día a día.\nInteracción por Voz: Explora cómo combinar ChatGPT con tecnologías de reconocimiento y síntesis de voz para aplicaciones de asistencia virtual y más.\n\n🌍 Reducción de la Brecha Digital 🌍 \nEste taller está diseñado para cualquier tipo de públibo\, independientemente de tu nivel técnico o experiencia previa. Queremos hacer que la tecnología avanzada sea accesible para todos\, ayudando a reducir la brecha digital y fomentando la inclusión.
URL:https://zaragozamakerspace.com/event/taller-de-chatgpt-prompt-engineering/
LOCATION:Zaragoza Maker Space\, Calle Madre Sacramento 47\, Zaragoza\, Zaragoza\, 50004\, Spain
ATTACH;FMTTYPE=image/png:https://zaragozamakerspace.com/wp-content/uploads/2023/04/ChatGPTWorkshop.png
ORGANIZER;CN="Zaragoza Maker Space":MAILTO:info@zaragozamakerspace.com
END:VEVENT
BEGIN:VEVENT
DTSTART;TZID=Europe/Madrid:20250208T173000
DTEND;TZID=Europe/Madrid:20250208T193000
DTSTAMP:20260420T072953
CREATED:20241202T154259Z
LAST-MODIFIED:20241202T154823Z
UID:12167-1739035800-1739043000@zaragozamakerspace.com
SUMMARY:Taller de Python - FastAPI
DESCRIPTION:🚀 ¡Crea APIs Modernas y Rápidas con FastAPI! 🚀\n¿Te gustaría aprender a desarrollar APIs robustas\, eficientes y fáciles de mantener con Python? FastAPI es una librería poderosa y de última generación que te permite construir servicios web modernos con rapidez y sencillez. Este taller está diseñado para introducirte al desarrollo de APIs utilizando FastAPI\, ayudándote a adquirir habilidades prácticas que podrás aplicar en proyectos reales.\n\n📚 Contenidos del Taller:\n\nIntroducción a FastAPI:\n\n¿Qué es FastAPI? Ventajas y casos de uso.\nComparación con otros frameworks como Flask y Django.\n\n\nPreparando el Entorno:\n\nInstalación de Python y FastAPI.\nConfiguración de herramientas esenciales como Uvicorn para ejecutar aplicaciones.\n\n\nFundamentos del Desarrollo de APIs:\n\nConceptos clave: rutas\, solicitudes HTTP (GET\, POST\, PUT\, DELETE).\nCreación de una API básica con FastAPI.\n\n\nCreación y Validación de Datos:\n\nUso de Pydantic para manejar y validar datos.\nDefinición de esquemas y tipos de datos en FastAPI.\n\n\nInteracción con Bases de Datos:\n\nIntroducción a la integración de bases de datos con FastAPI.\nEjemplo práctico con SQLite o PostgreSQL.\n\n\nMiddleware y Autenticación:\n\nUso de middlewares para personalizar el comportamiento de tu API.\nIntroducción a la autenticación y autorización con FastAPI.\n\n\nDeploy de una API en Producción:\n\nConfiguración de tu aplicación para ser desplegada.\nPublicación en plataformas como Heroku\, AWS o Docker.\n\n\n\n🌍 Reducción de la Brecha Digital 🌍\nEste taller está pensado para todos\, independientemente de su nivel de experiencia previa. Queremos acercar la tecnología a más personas y fomentar la inclusión en el mundo del desarrollo de software.
URL:https://zaragozamakerspace.com/event/taller-de-python-fastapi/
LOCATION:Zaragoza Maker Space\, Calle Madre Sacramento 47\, Zaragoza\, Zaragoza\, 50004\, Spain
CATEGORIES:Code,Educación,Talleres
ATTACH;FMTTYPE=image/png:https://zaragozamakerspace.com/wp-content/uploads/2024/12/Taller-FastAPI-Python.png
ORGANIZER;CN="Zaragoza Maker Space":MAILTO:info@zaragozamakerspace.com
END:VEVENT
BEGIN:VEVENT
DTSTART;TZID=Europe/Madrid:20251115T180000
DTEND;TZID=Europe/Madrid:20251115T220000
DTSTAMP:20260420T072953
CREATED:20250220T123905Z
LAST-MODIFIED:20251020T110525Z
UID:11462-1763229600-1763244000@zaragozamakerspace.com
SUMMARY:Puertas abiertas - CodeBeers
DESCRIPTION:¿Te gusta programar y te apetece hacerlo con más gente y tomarte algo?\nAhora puedes venir a programar\, compartir proyectos y experimentar con nosotros y descubrir cómo la tecnología puede ser utilizada y está al alcance de todos.\nSolo te hace falta venir con un ordenador y disfrutar de la compañía. 🙂\n  \nInscríbete en el siguiente formulario.\n\n	Aviso: Se requiere JavaScript para este contenido.
URL:https://zaragozamakerspace.com/event/puertas-abiertas-codebeers-nov/
LOCATION:Zaragoza Maker Space\, Calle Madre Sacramento 47\, Zaragoza\, Zaragoza\, 50004\, Spain
CATEGORIES:Code,codebeers
ATTACH;FMTTYPE=image/png:https://zaragozamakerspace.com/wp-content/uploads/2024/02/CodeBeers-ZMS-1.png
ORGANIZER;CN="Zaragoza Maker Space":MAILTO:info@zaragozamakerspace.com
END:VEVENT
BEGIN:VEVENT
DTSTART;TZID=Europe/Madrid:20250222T173000
DTEND;TZID=Europe/Madrid:20250222T193000
DTSTAMP:20260420T072953
CREATED:20241202T152023Z
LAST-MODIFIED:20241202T152023Z
UID:12171-1740245400-1740252600@zaragozamakerspace.com
SUMMARY:Taller de Diseño Láser
DESCRIPTION:¿Te gustaría crear diseños con una máquina láser?\n¡Ven a nuestro taller de diseño y grabado láser!\nDurante este taller te enseñaremos los pasos básicos para crear un diseño vectorial y usar una máquina láser para corte y grabado. \nEn el taller aprenderemos: \n\nPersonalización de diseños y reutilización con repositorios en linea.\nComprender los fundamentos de cómo funcionan las máquinas láser y las aplicaciones en diferentes campos.\nDiseño Vectorial Básico: Aprender a crear y manipular diseños vectoriales utilizando software como software de código abierto con Inkscape.\nPreparación de Materiales: Conocer los tipos de materiales que pueden ser cortados o grabados con el láser y cómo prepararlos para su uso.\nSeguridad y Mantenimiento: Enfatizar la importancia de las prácticas de seguridad al trabajar con máquinas láser y cómo realizar un mantenimiento básico para asegurar su funcionamiento óptimo.\nUso práctico de máquina Láser para corte o grabado.\n\nSolo necesitas tu ordenador portátil o laptop y tu entusiasmo por aprender y construir cosas nuevas. Si eres Cosplayer o diseñador@\, esta es una oportunidad para transferir tus diseños y crearlos para ponerlo. \n \nDirigido a: Aficionados al DIY\, diseñadores\, artistas\, educadores\, y cualquier persona interesada en aprender a utilizar tecnología de corte y grabado láser. \nRequisitos: No se requieren conocimientos previos en diseño o manejo de máquinas láser. Se recomienda traer un portátil para el diseño vectorial\, aunque no es obligatorio. \n¡Únete a nosotros y descubre como estampar tus ideas en tu ropa!\n  \n 
URL:https://zaragozamakerspace.com/event/taller-diseno-laser/
LOCATION:Zaragoza Maker Space\, Calle Madre Sacramento 47\, Zaragoza\, Zaragoza\, 50004\, Spain
CATEGORIES:Talleres
ATTACH;FMTTYPE=image/png:https://zaragozamakerspace.com/wp-content/uploads/2021/03/Laser_ZMSCourse.png
ORGANIZER;CN="Zaragoza Maker Space":MAILTO:info@zaragozamakerspace.com
END:VEVENT
BEGIN:VEVENT
DTSTART;TZID=Europe/Madrid:20251115T180000
DTEND;TZID=Europe/Madrid:20251115T220000
DTSTAMP:20260420T072953
CREATED:20250220T123905Z
LAST-MODIFIED:20251020T110525Z
UID:11462-1763229600-1763244000@zaragozamakerspace.com
SUMMARY:Puertas abiertas - CodeBeers
DESCRIPTION:¿Te gusta programar y te apetece hacerlo con más gente y tomarte algo?\nAhora puedes venir a programar\, compartir proyectos y experimentar con nosotros y descubrir cómo la tecnología puede ser utilizada y está al alcance de todos.\nSolo te hace falta venir con un ordenador y disfrutar de la compañía. 🙂\n  \nInscríbete en el siguiente formulario.\n\n	Aviso: Se requiere JavaScript para este contenido.
URL:https://zaragozamakerspace.com/event/puertas-abiertas-codebeers-nov/
LOCATION:Zaragoza Maker Space\, Calle Madre Sacramento 47\, Zaragoza\, Zaragoza\, 50004\, Spain
CATEGORIES:Code,codebeers
ATTACH;FMTTYPE=image/png:https://zaragozamakerspace.com/wp-content/uploads/2024/02/CodeBeers-ZMS-1.png
ORGANIZER;CN="Zaragoza Maker Space":MAILTO:info@zaragozamakerspace.com
END:VEVENT
END:VCALENDAR